BEGIN:VCALENDAR
VERSION:2.0
PRODID:-//Socialdemokraterna i Gävle - ECPv6.15.20//NONSGML v1.0//EN
CALSCALE:GREGORIAN
METHOD:PUBLISH
X-WR-CALNAME:Socialdemokraterna i Gävle
X-ORIGINAL-URL:https://gavle.socialdemokraterna.se
X-WR-CALDESC:Händelser för Socialdemokraterna i Gävle
REFRESH-INTERVAL;VALUE=DURATION:PT1H
X-Robots-Tag:noindex
X-PUBLISHED-TTL:PT1H
BEGIN:VTIMEZONE
TZID:Europe/Stockholm
BEGIN:DAYLIGHT
TZOFFSETFROM:+0100
TZOFFSETTO:+0200
TZNAME:CEST
DTSTART:20230326T010000
END:DAYLIGHT
BEGIN:STANDARD
TZOFFSETFROM:+0200
TZOFFSETTO:+0100
TZNAME:CET
DTSTART:20231029T010000
END:STANDARD
BEGIN:DAYLIGHT
TZOFFSETFROM:+0100
TZOFFSETTO:+0200
TZNAME:CEST
DTSTART:20240331T010000
END:DAYLIGHT
BEGIN:STANDARD
TZOFFSETFROM:+0200
TZOFFSETTO:+0100
TZNAME:CET
DTSTART:20241027T010000
END:STANDARD
BEGIN:DAYLIGHT
TZOFFSETFROM:+0100
TZOFFSETTO:+0200
TZNAME:CEST
DTSTART:20250330T010000
END:DAYLIGHT
BEGIN:STANDARD
TZOFFSETFROM:+0200
TZOFFSETTO:+0100
TZNAME:CET
DTSTART:20251026T010000
END:STANDARD
END:VTIMEZONE
BEGIN:VEVENT
DTSTART;TZID=Europe/Stockholm:20240208T174500
DTEND;TZID=Europe/Stockholm:20240208T200000
DTSTAMP:20260419T170756
CREATED:20240129T150835Z
LAST-MODIFIED:20240129T150835Z
UID:7603-1707414300-1707422400@gavle.socialdemokraterna.se
SUMMARY:Årsmöte i S-pedagoger!
DESCRIPTION:Välkommen på årsmöte i S-pedagoger! \nDet ska väljas fyra ledamöter till styrelsen och årsmöteshandlingar delas ut på mötet. \nEfter årsmötesförhandlingarna (kl. 18:30) får vi lyssna till läraren\, författaren och debattören Marcus Larsson som också driver tankesmedjan Balans. \nTemat för kvällen är ”De lönsamma – varför skolor slåss om elever”. \nVarmt välkommen och hoppas att vi ses!
URL:https://gavle.socialdemokraterna.se/event/arsmote-i-s-pedagoger-3/
LOCATION:Brunnsviks Folkhögskola\, Kaplansgatan 6\, Gävle\, Gävleborg\, 803 20\, Sverige
END:VEVENT
BEGIN:VEVENT
DTSTART;VALUE=DATE:20240224
DTEND;VALUE=DATE:20240225
DTSTAMP:20260419T170756
CREATED:20231002T133045Z
LAST-MODIFIED:20240116T141219Z
UID:7503-1708732800-1708819199@gavle.socialdemokraterna.se
SUMMARY:GEMENSAM ÅRSMÖTESDAG!
DESCRIPTION:Schemat för dagen: \nVi serverar kaffe/te/läsk och smörgås från kl. 9.15 \nKl. 09.30-10.30: LO S\, UNGA S\, Tro och Solidaritet\, HBTQ+ Socialdemokrater Gävle och Seniorklubben \nKl. 10.30-11.45: Bomhus S-förening\, Brynäs S-förening\, Gävle Norra S-förening\, Gävle Södra S-förening\, Sätra S-förening och Hille S-förening \nKl. 11.45-12.15 \nUtställning samt föreläsning av Ulf Ivar Nilsson \nKl. 12.15-13.15: Gemensam lunch (Lättare buffé serveras) \nKl. 13.15-14.15: S-kvinnor
URL:https://gavle.socialdemokraterna.se/event/gemensam-arsmotesdag-4/
LOCATION:Socialdemokraterna/ABF Gävle\, Brunnsgatan 56\, Gävle\, 80252\, Sverige
ORGANIZER;CN="Socialdemokraterna G%C3%A4vle":MAILTO:info@gavle.sap.se
END:VEVENT
BEGIN:VEVENT
DTSTART;TZID=Europe/Stockholm:20240224T140000
DTEND;TZID=Europe/Stockholm:20240224T160000
DTSTAMP:20260419T170756
CREATED:20240219T091705Z
LAST-MODIFIED:20240219T091705Z
UID:7606-1708783200-1708790400@gavle.socialdemokraterna.se
SUMMARY:Årsmöte i Valbo S-förening!
DESCRIPTION:Dags för årsmöte i Valbo S-förening. \nSedvanliga årsmöteshandlingar. \nHandlingar delas ut på mötet. \nVarmt välkommen!
URL:https://gavle.socialdemokraterna.se/event/arsmote-i-valbo-s-forening-5/
LOCATION:IOGT-NTO lokalen\, Stenhuggarvägen 4\, Valbo\, 81831\, Sverige
END:VEVENT
BEGIN:VEVENT
DTSTART;TZID=Europe/Stockholm:20240226T170000
DTEND;TZID=Europe/Stockholm:20240226T190000
DTSTAMP:20260419T170756
CREATED:20240219T091919Z
LAST-MODIFIED:20240219T091919Z
UID:7608-1708966800-1708974000@gavle.socialdemokraterna.se
SUMMARY:Årsmöte i Transports S-fackklubb!
DESCRIPTION:Dags för årsmöte i Transports S-fackklubb. \nSedvanliga årsmöteshandlingar. \nHandlingar delas ut på mötet. \nVarmt välkommen!
URL:https://gavle.socialdemokraterna.se/event/arsmote-i-transports-s-fackklubb-4/
LOCATION:Transportarb förb. lokal\, Sätrahöjden 16\, Gävle\, Sverige
END:VEVENT
END:VCALENDAR